BEGIN:VCALENDAR
VERSION:2.0
PRODID:-//eventon.com NONSGML v1.0//EN
CALSCALE:GREGORIAN
METHOD:PUBLISH
BEGIN:VEVENT
UID:69e5e79959aed
DTSTAMP:20260420T084513Z
DTSTART:20201218T023000Z
DTEND:20210228T130000Z
LOCATION:VCCA [Thanh Xuan] R3\,  72A Nguyễn Trãi\,  Thượng Đình\,  Thanh Xuân\,  Hà Nội
SUMMARY:HỎI - Art Exhibition
DESCRIPTION:The exhibition features 9 artists residing in Saigon and Hanoi\
 ,  with 45 different artworks ranging from paintings\,  sculptures to insta
 llation art. &#8220;HOI&#8221; (meaning &#8220;ASK&#8221;) evokes the most 
 substantial questions regarding art: What is a painting? What is sculpture
 ? What is installation art? What is art? Each will asked and answered[..]\n
 https://chaohanoi.com/hanoi-events/hoi-art-exhibition/
URL:https://chaohanoi.com/hanoi-events/hoi-art-exhibition/
END:VEVENT
END:VCALENDAR