BEGIN:VCALENDAR
VERSION:2.0
PRODID:-//eventon.com NONSGML v1.0//EN
CALSCALE:GREGORIAN
METHOD:PUBLISH
BEGIN:VEVENT
UID:69e5e7894f1fa
DTSTAMP:20260420T084457Z
DTSTART:20210130T113000Z
DTEND:20210130T163000Z
LOCATION:Bamboo [Tay Ho]  Alley 1 Quang Ba Street\,  Tay Ho Hanoi\,  Vietnam
SUMMARY:Hanoi Hifi
DESCRIPTION:Hanoi HiFi are back in Bamboo with the mighty Ice Cream Sound S
 ystem!Amazing Trinidad Jerk Fried Chicken with Wing It! All funds after cos
 t go to The Vietnam Friendship Village\,  helping individuals afflicted by 
 conditions related to Agent Orange used during the American war. 6 p.m.-11 
 p.m. 50k Dub /[..]\nhttps://chaohanoi.com/hanoi-events/hanoi-hifi-2/
URL:https://chaohanoi.com/hanoi-events/hanoi-hifi-2/
END:VEVENT
END:VCALENDAR