BEGIN:VCALENDAR
VERSION:2.0
PRODID:-//eventon.com NONSGML v1.0//EN
CALSCALE:GREGORIAN
METHOD:PUBLISH
BEGIN:VEVENT
UID:69e88da070ae8
DTSTAMP:20260422T085808Z
DTSTART:20190928T230000Z
DTEND:20190929T050000Z
LOCATION:Savage Club [Tay Ho] No. 1\,  Alley 9 Dang Thai Mai\,  Tay Ho Hanoi\,  Vietnam
SUMMARY:SAVAGE x SBD
DESCRIPTION:SBD is coming back to Savage on Sept 28th with a long time frie
 nd and talented DJ from Glasgow: Tre Turner Glasgow DJ’s have a reputatio
 n for genre-defying sets and Tre Turner’s approach embodies this traditio
 n\,  drawing on a well of forgotten gems amassed from days lost in bargain 
 bins[..]\nhttps://chaohanoi.com/hanoi-events/savage-x-sbd/
URL:https://chaohanoi.com/hanoi-events/savage-x-sbd/
END:VEVENT
END:VCALENDAR