BEGIN:VCALENDAR
VERSION:2.0
PRODID:-//eventon.com NONSGML v1.0//EN
CALSCALE:GREGORIAN
METHOD:PUBLISH
BEGIN:VEVENT
UID:69e5e77f5d7cd
DTSTAMP:20260420T084447Z
DTSTART:20191005T120000Z
DTEND:20191006T120000Z
LOCATION:The Spot [Tay Ho] 238 Âu Cơ\,  Quảng An\,  Tây Hồ\,  Hà Nội\,  Vietnam
SUMMARY:Studio Adventure: TWO
DESCRIPTION:Time flies by fast and Studio Adventure is turning two years ol
 d. How much fun we&#8217;ve had over the past two years with 10 unbeatable 
 events that you guys helped turn from vision into reality. Dao Khanh Treeho
 use labyrinths\,  Lockdown Rave fever\,  New Years bonfires\,  swimming poo
 ls and multi layered[..]\nhttps://chaohanoi.com/hanoi-events/studio-adventu
 re-two/
URL:https://chaohanoi.com/hanoi-events/studio-adventure-two/
END:VEVENT
END:VCALENDAR