BEGIN:VCALENDAR
VERSION:2.0
PRODID:-//eventon.com NONSGML v1.0//EN
CALSCALE:GREGORIAN
METHOD:PUBLISH
BEGIN:VEVENT
UID:69e8a55989678
DTSTAMP:20260422T103921Z
DTSTART:20191018T170000Z
DTEND:20191019T030000Z
LOCATION:Northern Soul Rooftop [Hoan Kiem] 31 Tạ Hiện\,  Hoàn Kiếm
SUMMARY:Northern Soul GRAND Opening
DESCRIPTION:[Tiếng Việt ở dưới] &#x1f37a;&#x1f37b;Check it out now
 \,  my funk soul brothers and sisters!&#x1f37b;&#x1f37a; Northern Soul Roof
 top Bar is finally ready to open its doors! Mark your calendars for Friday 
 October 18th. Festivities will begin at 5:00pm\,  where we will be offering
  our daily &#8220;Sunset Happy Hour&#8221; drink specials [buy[..]\nhttps:/
 /chaohanoi.com/hanoi-events/northern-soul/
URL:https://chaohanoi.com/hanoi-events/northern-soul/
END:VEVENT
END:VCALENDAR