BEGIN:VCALENDAR
VERSION:2.0
PRODID:-//eventon.com NONSGML v1.0//EN
CALSCALE:GREGORIAN
METHOD:PUBLISH
BEGIN:VEVENT
UID:69e5e79af192f
DTSTAMP:20260420T084514Z
DTSTART:20191017T170000Z
DTEND:20191017T230000Z
LOCATION:GSpot [Tay Ho]  24A\,  To Ngoc Van\,  Tay Ho. Hanoi\,  Vietnam
SUMMARY:Emma Exton Live - Freeflow
DESCRIPTION:Emma Exton shall be entertaining with Jazz covers while you enj
 oy Unlimited Freeflow options exclusive to Thursdays at G-Spot!\nhttps://ch
 aohanoi.com/hanoi-events/emma-exton-live-freeflow/
URL:https://chaohanoi.com/hanoi-events/emma-exton-live-freeflow/
END:VEVENT
END:VCALENDAR