BEGIN:VCALENDAR
VERSION:2.0
PRODID:-//eventon.com NONSGML v1.0//EN
CALSCALE:GREGORIAN
METHOD:PUBLISH
BEGIN:VEVENT
UID:69e88df258e57
DTSTAMP:20260422T085930Z
DTSTART:20191022T203000Z
DTEND:20191022T234500Z
LOCATION:7Fridays Hostel [Tay Ho] 22 Quang An\,  Tay Ho Hanoi\,  Vietnam
SUMMARY:Stand-Up Comedy Charity Night
DESCRIPTION:&#8212;&#8212;&#8212;&#8212;&#8212;-SPECIAL ANNOUNCEMENT&#8212;
 &#8212;&#8212;&#8212;&#8212;&#8211; We have a huge line up for you guys wit
 h 7 huge acts coming in from out of town this is going to be one EPIC! show
 &#8230; 7Fridays Westlake Hostel is proud to present Tay Ho&#8217;s fortnig
 htly stand up night with many comedy acts from around the globe[..]\nhttps:
 //chaohanoi.com/hanoi-events/comedy-hanoi-7fridays/
URL:https://chaohanoi.com/hanoi-events/comedy-hanoi-7fridays/
END:VEVENT
END:VCALENDAR