BEGIN:VCALENDAR
VERSION:2.0
PRODID:-//eventon.com NONSGML v1.0//EN
CALSCALE:GREGORIAN
METHOD:PUBLISH
BEGIN:VEVENT
UID:69e5e79cd83a9
DTSTAMP:20260420T084516Z
DTSTART:20191026T220000Z
DTEND:20191027T060000Z
LOCATION:The Lighthouse [Hoan Kiem] 51 Tu Gian Phuc Tan Street\,  Hoan Kiem District Hanoi\,  Vietnam
SUMMARY:Disco Freakshow Halloween Vol.2
DESCRIPTION:GingerWork 7th Halloween event in Hanoi &#8211; 2nd edition of 
 this name &#8211; The Devils Freakshow disco. Let is tell you who we are an
 d what to expect from the oldest creative theatrical dance party starters i
 n Hanoi. From our first event in 2012 we have always strived to bring[..]\n
 https://chaohanoi.com/hanoi-events/disco-freakshow-halloween-vol-2/
URL:https://chaohanoi.com/hanoi-events/disco-freakshow-halloween-vol-2/
END:VEVENT
END:VCALENDAR