BEGIN:VCALENDAR
VERSION:2.0
PRODID:-//eventon.com NONSGML v1.0//EN
CALSCALE:GREGORIAN
METHOD:PUBLISH
BEGIN:VEVENT
UID:69e5e74c02334
DTSTAMP:20260420T084356Z
DTSTART:20191109T210000Z
DTEND:20191110T010000Z
LOCATION:Savage Club [Tay Ho] No. 1\,  Alley 9 Dang Thai Mai\,  Tay Ho Hanoi\,  Vietnam
SUMMARY:Peach x Savage
DESCRIPTION:October wasn&#8217;t enough chance for all of us at PEACH to dr
 ess up\,  so we&#8217;re dancing through November! November 9th\,  that is!
  Come out to PEACH\,  Hanoi&#8217;s most dangerous drag show\,  for a littl
 e between the holidays action if you know what we mean. &#x1f609; It&#8217;
 s our November show\,  the[..]\nhttps://chaohanoi.com/hanoi-events/peach-x-
 savage-2/
URL:https://chaohanoi.com/hanoi-events/peach-x-savage-2/
END:VEVENT
END:VCALENDAR