BEGIN:VCALENDAR
VERSION:2.0
PRODID:-//eventon.com NONSGML v1.0//EN
CALSCALE:GREGORIAN
METHOD:PUBLISH
BEGIN:VEVENT
UID:69e8a5366812e
DTSTAMP:20260422T103846Z
DTSTART:20191115T203000Z
DTEND:20191115T220000Z
LOCATION:Hanoi Rock City [Tay Ho] 27/52 Tô Ngọc Vân\,  Tây Hồ Tay Ho\,  Ha Noi\,  Vietnam
SUMMARY:Tracks at Hanoi
DESCRIPTION:TRACKS is a one-woman show performed by Maude Sandham\,  who ex
 cavates the myth and memory of her grandfather\,  Alan Sandham. A man with 
 6 children and a dedicated wife. A man who loved to read the classics\,  li
 sten to Rachmaninoff and cook his ‘Scandinavian specialties’. A man who
  worked for[..]\nhttps://chaohanoi.com/hanoi-events/tracks-at-hanoi/
URL:https://chaohanoi.com/hanoi-events/tracks-at-hanoi/
END:VEVENT
END:VCALENDAR