BEGIN:VCALENDAR
VERSION:2.0
PRODID:-//eventon.com NONSGML v1.0//EN
CALSCALE:GREGORIAN
METHOD:PUBLISH
BEGIN:VEVENT
UID:69e5e7482e5ea
DTSTAMP:20260420T084352Z
DTSTART:20191124T110000Z
DTEND:20191124T230000Z
LOCATION:The 100 Beer Garden [Tay Ho] 68 Ngõ 238 Âu Cơ\,  Quảng An\,  Tây Hồ\,  Hà Nội\,  Vietnam
SUMMARY:Veg & Vegan Festival 2019
DESCRIPTION:Pencil your calendar &#x1f5d3; Veg &amp; Vegan Fest &#x1f331; i
 s on November 24th! We bring together local and expat chefs\,  with over 50
 0 visitors each time. Come along and enjoy delicious dishes from all around
  the world. Each vendor will be making their BEST dishes &#x2665; MELTING P
 OT HANOI is[..]\nhttps://chaohanoi.com/hanoi-events/veg-vegan-festival-2019
 /
URL:https://chaohanoi.com/hanoi-events/veg-vegan-festival-2019/
END:VEVENT
END:VCALENDAR