BEGIN:VCALENDAR
VERSION:2.0
PRODID:-//eventon.com NONSGML v1.0//EN
CALSCALE:GREGORIAN
METHOD:PUBLISH
BEGIN:VEVENT
UID:69e7869338ba6
DTSTAMP:20260421T141547Z
DTSTART:20191208T210000Z
DTEND:20191209T010000Z
LOCATION:The Venue [Tay Ho] 46 An Duong Hà Nội
SUMMARY:One World Collective x Venue
DESCRIPTION:The OWC is Back!!! This time around we will be performing our u
 nique art show at The Venue and the theme is &#8220;The System.&#8221; This
  is a fantastic show where art\,  poetry and music come together to explode
  expectations of what can be experienced through any of those independent m
 ediums.[..]\nhttps://chaohanoi.com/hanoi-events/one-world-collective-x-venu
 e/
URL:https://chaohanoi.com/hanoi-events/one-world-collective-x-venue/
END:VEVENT
END:VCALENDAR