BEGIN:VCALENDAR
VERSION:2.0
PRODID:-//eventon.com NONSGML v1.0//EN
CALSCALE:GREGORIAN
METHOD:PUBLISH
BEGIN:VEVENT
UID:69e5e7b488757
DTSTAMP:20260420T084540Z
DTSTART:20200111T163000Z
DTEND:20200111T234500Z
LOCATION:
SUMMARY:Bạn Là Ai - Portrait Showcase
DESCRIPTION:Portrait art showcase bạn là ai / and who are you? LOCATION:
  So 11\,  Ngo 271 Lac Long Quan\,  Hanoi https://goo.gl/maps/nejHG3qd9DsAEu
 XPA OPENING DATE: Saturday Jan 11th 4.30pm 4.30pm &#8211; Painting workshop
  with Alina Lypovenko 8.00pm &#8211; Official opening Photography: Julia Da
 vigora\,  Patrizio Mancuso\,  Daniel Nuderscher Paintings: Alina Lypovenko 
 9.00pm &#8211;[..]\nhttps://chaohanoi.com/hanoi-events/ban-la-ai-portrait-s
 howcase/
URL:https://chaohanoi.com/hanoi-events/ban-la-ai-portrait-showcase/
END:VEVENT
END:VCALENDAR