BEGIN:VCALENDAR
VERSION:2.0
PRODID:-//eventon.com NONSGML v1.0//EN
CALSCALE:GREGORIAN
METHOD:PUBLISH
BEGIN:VEVENT
UID:69e5e740a2bb4
DTSTAMP:20260420T084344Z
DTSTART:20200229T210000Z
DTEND:20200301T090000Z
LOCATION:The Lighthouse [Hoan Kiem] 51 Tu Gian Phuc Tan Street\,  Hoan Kiem District Hanoi\,  Vietnam
SUMMARY:Kivi’s 12 Hour B2B Free Party
DESCRIPTION:Saturday 29th February Kivi is back with a bang. Absolutely sta
 cked line up of Hanoi’s favourite selectas spinning back to back for 12 h
 ours! Free entry all night! 9.30PM &#8211; 9.30AM The Lighthouse\nhttps://c
 haohanoi.com/hanoi-events/kivis-12-hour-b2b-free-party/
URL:https://chaohanoi.com/hanoi-events/kivis-12-hour-b2b-free-party/
END:VEVENT
END:VCALENDAR