BEGIN:VCALENDAR
VERSION:2.0
PRODID:-//eventon.com NONSGML v1.0//EN
CALSCALE:GREGORIAN
METHOD:PUBLISH
BEGIN:VEVENT
UID:69e88df1284ea
DTSTAMP:20260422T085929Z
DTSTART:20200313T230000Z
DTEND:20200314T050000Z
LOCATION:Birdcage [Tay Ho] Ngõ 264 Âu Cơ\,  Quảng An\,  Tây Hồ\,  Hà Nội 100000\,  Vietnam
SUMMARY:Beats Bars n Breaks at Birdcage
DESCRIPTION:Beats Bars n Breaks return to the Cage for the first time this 
 decade promising a rowdy night of amen and breaks and sub bass frequencies.
  The B3 MCs and selectors will be keeping you up all night with servings of
  Bassline\,  DnB\,  Garage\,  Grime\,  Drill\,  Dubstep and more. Big[..]\n
 https://chaohanoi.com/hanoi-events/beats-bars-n-breaks-at-birdcage/
URL:https://chaohanoi.com/hanoi-events/beats-bars-n-breaks-at-birdcage/
END:VEVENT
END:VCALENDAR