BEGIN:VCALENDAR
VERSION:2.0
PRODID:-//eventon.com NONSGML v1.0//EN
CALSCALE:GREGORIAN
METHOD:PUBLISH
BEGIN:VEVENT
UID:69e78c5abda64
DTSTAMP:20260421T144026Z
DTSTART:20200405T110000Z
DTEND:20200405T230000Z
LOCATION:The 100 Beer Garden [Tay Ho] 68 Ngõ 238 Âu Cơ\,  Quảng An\,  Tây Hồ\,  Hà Nội\,  Vietnam
SUMMARY:Taco Festival 2020
DESCRIPTION:After the incredible success of Melting Pot Food Fest [Taco Edi
 tion} 2018\,  We&#8217;re bringing you Taco Festival 2020 &#8212; brought t
 o you by Melting Pot Hanoi. &#8211; Let&#8217;s find out who make the best 
 tacos this year &#x1f32e; &#x1f3c6; Live music &amp; performances from 2PM 
 onwards Drag shows ; 5PM[..]\nhttps://chaohanoi.com/hanoi-events/taco-festi
 val-2020/
URL:https://chaohanoi.com/hanoi-events/taco-festival-2020/
END:VEVENT
END:VCALENDAR