BEGIN:VCALENDAR
VERSION:2.0
PRODID:-//eventon.com NONSGML v1.0//EN
CALSCALE:GREGORIAN
METHOD:PUBLISH
BEGIN:VEVENT
UID:69e5e7446957a
DTSTAMP:20260420T084348Z
DTSTART:20200314T233000Z
DTEND:20200315T060000Z
LOCATION:Birdcage [Tay Ho] Ngõ 264 Âu Cơ\,  Quảng An\,  Tây Hồ\,  Hà Nội 100000\,  Vietnam
SUMMARY:Craic in The Cage
DESCRIPTION:Each year to celebrate St. Patrick&#8217;s Day\,  we light up t
 he city and show the world what it really means\,  to have the craic with t
 he Irish. We got some fantastic tune merchants this year to be dishing out 
 plenty of diddly aye\,  cheesey pop and everything else in between.[..]\nht
 tps://chaohanoi.com/hanoi-events/craic-in-the-cage/
URL:https://chaohanoi.com/hanoi-events/craic-in-the-cage/
END:VEVENT
END:VCALENDAR