BEGIN:VCALENDAR
VERSION:2.0
PRODID:-//eventon.com NONSGML v1.0//EN
CALSCALE:GREGORIAN
METHOD:PUBLISH
BEGIN:VEVENT
UID:69e88de0533ef
DTSTAMP:20260422T085912Z
DTSTART:20200523T230000Z
DTEND:20200524T050000Z
LOCATION:Birdcage [Tay Ho] Ngõ 264 Âu Cơ\,  Quảng An\,  Tây Hồ\,  Hà Nội 100000\,  Vietnam
SUMMARY:Atipik presents: Sound Escape
DESCRIPTION:After a long but productive break\,  Atipik is back to bring yo
 u the Sound Escape. Yearning for freedom\,  movement\,  sound\,  journey &#
 8211; the dancers prepare their attires and desire to follow the rabbit int
 o the hole. Release the pressure\,  give yourself in! MUSIC: Dusan Nikolic 
 Selection https://soundcloud.com/dusan-nikolic https://www.residentadvisor.
 net/dj/dusannikolic Techa https://soundcloud.com/techa_911[..]\nhttps://cha
 ohanoi.com/hanoi-events/atipik-presents-sound-escape/
URL:https://chaohanoi.com/hanoi-events/atipik-presents-sound-escape/
END:VEVENT
END:VCALENDAR