BEGIN:VCALENDAR
VERSION:2.0
PRODID:-//eventon.com NONSGML v1.0//EN
CALSCALE:GREGORIAN
METHOD:PUBLISH
BEGIN:VEVENT
UID:69e5e7464c010
DTSTAMP:20260420T084350Z
DTSTART:20200524T060000Z
DTEND:20200524T110000Z
LOCATION:Bamboo [Tay Ho]  Alley 1 Quang Ba Street\,  Tay Ho Hanoi\,  Vietnam
SUMMARY:This is the Krōma Afterparty
DESCRIPTION:This is the Krōma Afterparty. We are back at Bamboo Westlake f
 or a special sunrise afterparty starting from 6am on Sunday the 24th of May
 . With Krōma DJs + special guests gracing the decks\,  we&#8217;ll keep yo
 u warm and moving throughout the morning with colourful sounds. The party m
 ust go[..]\nhttps://chaohanoi.com/hanoi-events/this-is-the-kroma-afterparty
 /
URL:https://chaohanoi.com/hanoi-events/this-is-the-kroma-afterparty/
END:VEVENT
END:VCALENDAR