BEGIN:VCALENDAR
VERSION:2.0
PRODID:-//eventon.com NONSGML v1.0//EN
CALSCALE:GREGORIAN
METHOD:PUBLISH
BEGIN:VEVENT
UID:69e5e72b56f90
DTSTAMP:20260420T084323Z
DTSTART:20200524T190000Z
DTEND:20200524T210000Z
LOCATION:Hanoi Social Club [Hoan Kiem] 6 Ngõ Hội Vũ\,  Hàng Bông\,  Hoàn Kiếm\,  Hà Nội\,  Vietnam
SUMMARY:Creative Nights | Life Drawing
DESCRIPTION:The Hanoi Social Club and Marta Kisiliczyk presents Creative Ni
 ghts &#8211; Life Drawing. Every Sunday from 7pm. Create your own take-home
  artwork with the guidance of a professional artist and the company of kind
 red souls. A live model\,  expert advice\,  a 100-year-old French house in 
 the old quarter and a[..]\nhttps://chaohanoi.com/hanoi-events/creative-nigh
 ts-life-drawing/
URL:https://chaohanoi.com/hanoi-events/creative-nights-life-drawing/
END:VEVENT
END:VCALENDAR