BEGIN:VCALENDAR
VERSION:2.0
PRODID:-//eventon.com NONSGML v1.0//EN
CALSCALE:GREGORIAN
METHOD:PUBLISH
BEGIN:VEVENT
UID:69e5e7780a968
DTSTAMP:20260420T084440Z
DTSTART:20200602T180000Z
DTEND:20200602T230000Z
LOCATION:TUNG Dining [Hoan Kiem] 2C Quang Trung\,  Hoan Kiem Hanoi\,  Vietnam
SUMMARY:The explosion of umami
DESCRIPTION:At T.U.N.G dining\,  Head Chef Hoang Tung and his team are read
 y to deliver a new gastronomic journey\,  featuring seasonal ingredients an
 d special sauces. The explosion of umami is officially launched from Tuesda
 y\,  2 June 2020. Come and be part of this fresh and energetic experience! 
 For reservations\,  please kindly[..]\nhttps://chaohanoi.com/hanoi-events/t
 he-explosion-of-umami/
URL:https://chaohanoi.com/hanoi-events/the-explosion-of-umami/
END:VEVENT
END:VCALENDAR