BEGIN:VCALENDAR
VERSION:2.0
PRODID:-//eventon.com NONSGML v1.0//EN
CALSCALE:GREGORIAN
METHOD:PUBLISH
BEGIN:VEVENT
UID:69e5e729928b2
DTSTAMP:20260420T084321Z
DTSTART:19700101T010000Z
DTEND:19700101T010000Z
LOCATION:L&#039;Oasis Gelato [Tay Ho] 25 Nhật Chiêu Hanoi\,  Vietnam
SUMMARY:Hanoi Boho Garage Sale <Vol.6>
DESCRIPTION:Lovely to see our beloved again! &#x1f917; How have you been? T
 his time\,  we’re settling at L’OASIS &#8211; a lovely and tasty homema
 de Gelato parlor &#x1f60d;&#x1f60d;&#x1f60d; * Official vendors list &#x1f3
 81; &#8211; BohoDia &#8211; Tiệm thủ công của Lý &#8211; CÁMA &#82
 11; Cửa Hàng Tạp Hoá Film COG &#8211; Crystals[..]\nhttps://chaohanoi
 .com/hanoi-events/hanoi-boho-garage-sale/
URL:https://chaohanoi.com/hanoi-events/hanoi-boho-garage-sale/
END:VEVENT
END:VCALENDAR