BEGIN:VCALENDAR
VERSION:2.0
PRODID:-//eventon.com NONSGML v1.0//EN
CALSCALE:GREGORIAN
METHOD:PUBLISH
BEGIN:VEVENT
UID:69e78a6883629
DTSTAMP:20260421T143208Z
DTSTART:20200704T100000Z
DTEND:20200704T123000Z
LOCATION:Star Kickboxing and Fitness [Tay Ho] 77 Xuan Dieu\,  Tay Ho\,  Hanoi\,  Vietnam
SUMMARY:Self-Defense Workshop Beginners
DESCRIPTION:For years Head Coach Phu has been an advocate for self-defense 
 and has run many workshops in the Tay Ho area\,  as well as currently runni
 ng a program for survivors of domestic violence and human trafficking. In h
 is years of working in high-level security positions including presidential
  assignments\,  along with[..]\nhttps://chaohanoi.com/hanoi-events/self-def
 ense-workshop-in-hanoi/
URL:https://chaohanoi.com/hanoi-events/self-defense-workshop-in-hanoi/
END:VEVENT
END:VCALENDAR