BEGIN:VCALENDAR
VERSION:2.0
PRODID:-//eventon.com NONSGML v1.0//EN
CALSCALE:GREGORIAN
METHOD:PUBLISH
BEGIN:VEVENT
UID:69e5e7b2a03a9
DTSTAMP:20260420T084538Z
DTSTART:20200712T130000Z
DTEND:20200712T230000Z
LOCATION:The 100 Beer Garden [Tay Ho] 68 Ngõ 238 Âu Cơ\,  Quảng An\,  Tây Hồ\,  Hà Nội\,  Vietnam
SUMMARY:Slider Festival
DESCRIPTION:A-are you ready for this?! Slider Festival is coming to town an
 d will offer plenty of mouth-watering flavors this summer. Tucked away down
  a quiet alley\,  behind Tay Ho’s iconic flower market on Au Co lies a hu
 mble oasis\,  The 100 Garden — Home of many events including Melting Pot[
 ..]\nhttps://chaohanoi.com/hanoi-events/slider-festival-in-hanoi/
URL:https://chaohanoi.com/hanoi-events/slider-festival-in-hanoi/
END:VEVENT
END:VCALENDAR