BEGIN:VCALENDAR
VERSION:2.0
PRODID:-//eventon.com NONSGML v1.0//EN
CALSCALE:GREGORIAN
METHOD:PUBLISH
BEGIN:VEVENT
UID:69e5e7278dd64
DTSTAMP:20260420T084319Z
DTSTART:20200707T180000Z
DTEND:20200707T220000Z
LOCATION:W Square [Tay Ho] 97 Trích Sài\,  Tây Hồ\,  Hanoi
SUMMARY:Hanoi Switch - An Exhibition: Created in isolation
DESCRIPTION:Showcasing a collection of multi-media created during the time 
 of quarantine. As well as the inaugural launch of Hanoi Switch. The Isolati
 on Exhibition is a way to connect and reconnect through self-expression cre
 ated out of inner peace\,  frustration\,  inspiration\,  and necessity. The
  exhibition is a collaborative effort\,  creative direction by[..]\nhttps:/
 /chaohanoi.com/hanoi-events/hanoi-exhibition-opens-to-hanoi-2020/
URL:https://chaohanoi.com/hanoi-events/hanoi-exhibition-opens-to-hanoi-2020/
END:VEVENT
END:VCALENDAR