BEGIN:VCALENDAR
VERSION:2.0
PRODID:-//eventon.com NONSGML v1.0//EN
CALSCALE:GREGORIAN
METHOD:PUBLISH
BEGIN:VEVENT
UID:69ecb7ddca368
DTSTAMP:20260425T124725Z
DTSTART:20200718T110000Z
DTEND:20200719T234500Z
LOCATION:Turtle Lake Brewing Company 105 Quang Khanh\,  Tay Ho Hanoi
SUMMARY:Beer & Cider Festival
DESCRIPTION:ARE YOU READY FOR A BEER &amp; CIDER FESTIVAL?! ‘For the Love
  of Craft’ is back and primed to quench your thirst this summer! This yea
 r we bring you over 15 of Vietnam’s top craft brewers showcasing their fi
 nest selection of brews. FREE ENTRY Live music &amp; performances Food Avai
 lable[..]\nhttps://chaohanoi.com/hanoi-events/beer-cider-festival/
URL:https://chaohanoi.com/hanoi-events/beer-cider-festival/
END:VEVENT
END:VCALENDAR