BEGIN:VCALENDAR
VERSION:2.0
PRODID:-//eventon.com NONSGML v1.0//EN
CALSCALE:GREGORIAN
METHOD:PUBLISH
BEGIN:VEVENT
UID:69e88df067678
DTSTAMP:20260422T085928Z
DTSTART:20200719T120000Z
DTEND:20200719T230000Z
LOCATION:The Spot [Tay Ho] 238 Ã‚u CÆ¡\,  Quáº£ng An\,  TÃ¢y Há»“\,  HÃ  Ná»™i\,  Vietnam
SUMMARY:Rave on Tay Ho Decompress
DESCRIPTION:Sunday 19th July Sunday we will be taking over the spot for the
  official decompression party for Rave On Tay Ho // Inner City Festival. âž
 ¤ 8 hour pool party âž¤Hanoi&#8217;s Top Underground DJ&#8217;s âž¤Great Fo
 od âž¤Free Giveaways âž¤Upgraded SoundSystem âž¤Drinks promotions Line up K
 ivi Nook Integ Dane Friend Midday[..]\nhttps://chaohanoi.com/hanoi-events/r
 ave-on-tay-ho-decompress/
URL:https://chaohanoi.com/hanoi-events/rave-on-tay-ho-decompress/
END:VEVENT
END:VCALENDAR